BEGIN:VCALENDAR
VERSION:2.0
PRODID:-//Forum Strategy - ECPv6.15.20//NONSGML v1.0//EN
CALSCALE:GREGORIAN
METHOD:PUBLISH
X-WR-CALNAME:Forum Strategy
X-ORIGINAL-URL:https://forumstrategy.org
X-WR-CALDESC:Events for Forum Strategy
REFRESH-INTERVAL;VALUE=DURATION:PT1H
X-Robots-Tag:noindex
X-PUBLISHED-TTL:PT1H
BEGIN:VTIMEZONE
TZID:Europe/London
BEGIN:DAYLIGHT
TZOFFSETFROM:+0000
TZOFFSETTO:+0100
TZNAME:BST
DTSTART:20210328T010000
END:DAYLIGHT
BEGIN:STANDARD
TZOFFSETFROM:+0100
TZOFFSETTO:+0000
TZNAME:GMT
DTSTART:20211031T010000
END:STANDARD
BEGIN:DAYLIGHT
TZOFFSETFROM:+0000
TZOFFSETTO:+0100
TZNAME:BST
DTSTART:20220327T010000
END:DAYLIGHT
BEGIN:STANDARD
TZOFFSETFROM:+0100
TZOFFSETTO:+0000
TZNAME:GMT
DTSTART:20221030T010000
END:STANDARD
BEGIN:DAYLIGHT
TZOFFSETFROM:+0000
TZOFFSETTO:+0100
TZNAME:BST
DTSTART:20230326T010000
END:DAYLIGHT
BEGIN:STANDARD
TZOFFSETFROM:+0100
TZOFFSETTO:+0000
TZNAME:GMT
DTSTART:20231029T010000
END:STANDARD
END:VTIMEZONE
BEGIN:VEVENT
DTSTART;TZID=Europe/London:20220907T140000
DTEND;TZID=Europe/London:20220907T153000
DTSTAMP:20260422T214548
CREATED:20220830T152620Z
LAST-MODIFIED:20220830T152918Z
UID:250787-1662559200-1662564600@forumstrategy.org
SUMMARY:TrustLeaders Roundtable - Cost pressures crisis
DESCRIPTION:TrustLeaders Roundtable – Cost pressures crisis; 7th September 2022. 2pm-3.30pm. Online. \nForum Strategy is to hold an urgent online roundtable next week on the cost pressures crisis and the implications for trusts. \nWe are bringing together members of our CEO\, COO and Education Executives network to discuss the nature of the pressures\, the implications\, and potential next steps for the sector. The meeting will provide an opportunity for people to connect at a very challenging and uncertain time. We intend for the meeting to lead to a number of outcomes: \n– An opportunity for Trust Leaders to share their experiences and current perspectives and responses to the current crisis; \n– A short report of the roundtable (all unattributed)\, a copy of which we will send to the Secretary of State and the Director General of the Regions Group \nWe believe that the government and sector needs to be informed and on the ‘front foot’ going into the autumn\, and this meeting and paper will ensure that we capture the important perspectives from our #TrustLeaders members across the country and generate ideas and recommendations for the short to medium term \nTo book onto this event\, you must be a member of Forum Strategy’s National CEO\, COO or Education Executives networks. \nBooking Form
URL:https://forumstrategy.org/event/trustleaders-roundtable-cost-pressures-crisis/
LOCATION:Online
CATEGORIES:Special Event
ATTACH;FMTTYPE=image/jpeg:https://forumstrategy.org/wp-content/uploads/2021/10/eventbrite-online-event.jpg
END:VEVENT
END:VCALENDAR