BEGIN:VCALENDAR
VERSION:2.0
PRODID:-//Forum Strategy - ECPv6.15.20//NONSGML v1.0//EN
CALSCALE:GREGORIAN
METHOD:PUBLISH
X-WR-CALNAME:Forum Strategy
X-ORIGINAL-URL:https://forumstrategy.org
X-WR-CALDESC:Events for Forum Strategy
REFRESH-INTERVAL;VALUE=DURATION:PT1H
X-Robots-Tag:noindex
X-PUBLISHED-TTL:PT1H
BEGIN:VTIMEZONE
TZID:Europe/London
BEGIN:DAYLIGHT
TZOFFSETFROM:+0000
TZOFFSETTO:+0100
TZNAME:BST
DTSTART:20240331T010000
END:DAYLIGHT
BEGIN:STANDARD
TZOFFSETFROM:+0100
TZOFFSETTO:+0000
TZNAME:GMT
DTSTART:20241027T010000
END:STANDARD
BEGIN:DAYLIGHT
TZOFFSETFROM:+0000
TZOFFSETTO:+0100
TZNAME:BST
DTSTART:20250330T010000
END:DAYLIGHT
BEGIN:STANDARD
TZOFFSETFROM:+0100
TZOFFSETTO:+0000
TZNAME:GMT
DTSTART:20251026T010000
END:STANDARD
BEGIN:DAYLIGHT
TZOFFSETFROM:+0000
TZOFFSETTO:+0100
TZNAME:BST
DTSTART:20260329T010000
END:DAYLIGHT
BEGIN:STANDARD
TZOFFSETFROM:+0100
TZOFFSETTO:+0000
TZNAME:GMT
DTSTART:20261025T010000
END:STANDARD
END:VTIMEZONE
BEGIN:VEVENT
DTSTART;TZID=Europe/London:20250313T160000
DTEND;TZID=Europe/London:20250313T170000
DTSTAMP:20260421T032800
CREATED:20250212T093252Z
LAST-MODIFIED:20250219T104532Z
UID:260597-1741881600-1741885200@forumstrategy.org
SUMMARY:Termly Chairs of Trustees' Seminar
DESCRIPTION:It is crucial that Chairs of Trustees continue to access the latest insights\, developments and updates from across the system – and invest time in their own ongoing professional development and we want to support this at Forum Strategy. All Chairs of Trustees whose CEO\, COO and/or Education Leader is a member of Forum Strategy are entitled to attend our termly complimentary seminars for Chairs. \nThis term’s event will be led by Emma Knights OBE\, Forum Strategy Associate and the former CEO of the National Governance Association.  As chief executive of the NGA from 2010 to 2024\, Emma was responsible for growing its services and the understanding of school and trust governance. She had the privilege of representing the voices of school governors and academy trustees across England. Before NGA\, Emma worked in third sector organisations\, always aiming to support people with disadvantaged backgrounds with advocacy\, access to civil rights and entitlements\, tackling child poverty or encouraging early education. \nIn this session\, Emma will explore the relationship between local governing bodies and the trust board\, exploring the importance of local governance\, an overview of what good local governance looks like and a focus on how to ensure effective information flow between the boards and the trustees (avoiding repetition and duplication). The purpose of the session is to explore and discuss approaches that ensure the LGB’s and Trustees are clear on their roles and purpose and that they work together to ensure relevant information is shared effectively and consistently. The seminar will draw on Forum Strategy’s work around the principles underpinning thriving governance (and wider work with leading thinkers on governance and Boards such as Patrick Dunne and Michael Pain). \nThis is an opportunity for Chairs to reflect on the evolving nature of governance across trusts and to share their perspectives with other Chairs from across the country. To access this online event\, your Chair can use the following booking form below: \nBooking Form
URL:https://forumstrategy.org/event/termly-chairs-of-trustees-seminar-march-6th/
LOCATION:Online
CATEGORIES:Chair of Trustees
ATTACH;FMTTYPE=image/jpeg:https://forumstrategy.org/wp-content/uploads/2023/11/Chairs-of-Trustees-scaled.jpg
END:VEVENT
END:VCALENDAR