BEGIN:VCALENDAR
VERSION:2.0
PRODID:-//Forum Strategy - ECPv6.15.20//NONSGML v1.0//EN
CALSCALE:GREGORIAN
METHOD:PUBLISH
X-WR-CALNAME:Forum Strategy
X-ORIGINAL-URL:https://forumstrategy.org
X-WR-CALDESC:Events for Forum Strategy
REFRESH-INTERVAL;VALUE=DURATION:PT1H
X-Robots-Tag:noindex
X-PUBLISHED-TTL:PT1H
BEGIN:VTIMEZONE
TZID:Europe/London
BEGIN:DAYLIGHT
TZOFFSETFROM:+0000
TZOFFSETTO:+0100
TZNAME:BST
DTSTART:20210328T010000
END:DAYLIGHT
BEGIN:STANDARD
TZOFFSETFROM:+0100
TZOFFSETTO:+0000
TZNAME:GMT
DTSTART:20211031T010000
END:STANDARD
BEGIN:DAYLIGHT
TZOFFSETFROM:+0000
TZOFFSETTO:+0100
TZNAME:BST
DTSTART:20220327T010000
END:DAYLIGHT
BEGIN:STANDARD
TZOFFSETFROM:+0100
TZOFFSETTO:+0000
TZNAME:GMT
DTSTART:20221030T010000
END:STANDARD
BEGIN:DAYLIGHT
TZOFFSETFROM:+0000
TZOFFSETTO:+0100
TZNAME:BST
DTSTART:20230326T010000
END:DAYLIGHT
BEGIN:STANDARD
TZOFFSETFROM:+0100
TZOFFSETTO:+0000
TZNAME:GMT
DTSTART:20231029T010000
END:STANDARD
END:VTIMEZONE
BEGIN:VEVENT
DTSTART;TZID=Europe/London:20220328T160000
DTEND;TZID=Europe/London:20220328T170000
DTSTAMP:20260422T185555
CREATED:20220325T115205Z
LAST-MODIFIED:20220325T123326Z
UID:249858-1648483200-1648486800@forumstrategy.org
SUMMARY:SPECIAL EVENT; Schools' White Paper Discussion Session
DESCRIPTION:New Schools White Paper – reflection and discussion with Sir Steve Lancashire\, Chair Designate of the Forum Strategy CEO network \nAccording to reports on social media this morning\, it is widely anticipated that the new Schools White Paper will be published on Monday\, with some key proposals expected around the development of the academy trust sector and for trusts generally. \nWith this in mind\, we are setting aside some time for\, and inviting you to\, a special discussion session on Monday afternoon to reflect on the key developments including the white paper should it be published by then. The meeting will take place from 4pm – 5pm on Monday 28th March. \nTo book onto this event\, please complete the following form. \nPlease note this event is only open to members of Forum Strategy’s CEO\, COO and Education Executives network\, as well as our partners and nominated subscribers. \nWe look forward to seeing you on Monday \nBooking Form
URL:https://forumstrategy.org/event/special-event-schools-white-paper-discussion-session/
LOCATION:Online
CATEGORIES:Special Event
ATTACH;FMTTYPE=image/jpeg:https://forumstrategy.org/wp-content/uploads/2021/10/eventbrite-online-event.jpg
END:VEVENT
END:VCALENDAR