BEGIN:VCALENDAR
VERSION:2.0
PRODID:-//Forum Strategy - ECPv6.15.20//NONSGML v1.0//EN
CALSCALE:GREGORIAN
METHOD:PUBLISH
X-WR-CALNAME:Forum Strategy
X-ORIGINAL-URL:https://forumstrategy.org
X-WR-CALDESC:Events for Forum Strategy
REFRESH-INTERVAL;VALUE=DURATION:PT1H
X-Robots-Tag:noindex
X-PUBLISHED-TTL:PT1H
BEGIN:VTIMEZONE
TZID:Europe/London
BEGIN:DAYLIGHT
TZOFFSETFROM:+0000
TZOFFSETTO:+0100
TZNAME:BST
DTSTART:20220327T010000
END:DAYLIGHT
BEGIN:STANDARD
TZOFFSETFROM:+0100
TZOFFSETTO:+0000
TZNAME:GMT
DTSTART:20221030T010000
END:STANDARD
BEGIN:DAYLIGHT
TZOFFSETFROM:+0000
TZOFFSETTO:+0100
TZNAME:BST
DTSTART:20230326T010000
END:DAYLIGHT
BEGIN:STANDARD
TZOFFSETFROM:+0100
TZOFFSETTO:+0000
TZNAME:GMT
DTSTART:20231029T010000
END:STANDARD
BEGIN:DAYLIGHT
TZOFFSETFROM:+0000
TZOFFSETTO:+0100
TZNAME:BST
DTSTART:20240331T010000
END:DAYLIGHT
BEGIN:STANDARD
TZOFFSETFROM:+0100
TZOFFSETTO:+0000
TZNAME:GMT
DTSTART:20241027T010000
END:STANDARD
END:VTIMEZONE
BEGIN:VEVENT
DTSTART;TZID=Europe/London:20230711T093000
DTEND;TZID=Europe/London:20230711T120000
DTSTAMP:20260421T144441
CREATED:20230531T095309Z
LAST-MODIFIED:20230531T105600Z
UID:252331-1689067800-1689076800@forumstrategy.org
SUMMARY:National #TrustLeaders COO Network
DESCRIPTION:How as a COO do you look ahead to the challenges and opportunities on the horizon for 2023 and beyond? As you grow and develop as a trust\, how will you continue to deliver on key strategic areas at greater scale? Join our next national COO network meeting to consider and discuss these questions and more. \nWe are delighted that the next COO network will be led by our Guest National COO Network Chair\, Charlie Tebbutt. As a founding Trustee\, COO and CFO\, Charlie of the highly regarded Beckfoot Trust\, Charlie oversaw all academy conversions and the transformation of all aspects of the Trust’s commercial development and so brings vast and relevant experience to our national COO network. \nAt our next network meeting we will be considering the concept of thriving trusts and considering what the role of the COO is\, in enabling and supporting the organisation to thrive and develop. We will hear from our partners at The Key to consider some important headline findings from our recent joint follow up survey\, exploring the impact of the cost of living crisis and how trusts are navigating these ever challenging times. We will also be joined by Dr Sharon Wright\, consultant at The Learning Crowd\, and renowned speaker on the latest trends in learning environments throughout the UK and internationally. Sharon will explore what effective\, sustainable estates strategies should include\, ensuring young people\, communities and staff are at the very heart. Graham Shaw\, consultant at Wrigley Solicitors\, will then provide an update\, outlining some of the key headlines from the recent academies regulatory and commissioning review\, unpicking some of the key areas of interest for COOs. We will then finish on an input focused on how trusts can better use and harness the potential of digital and technology\, touching on how AI may\, in future\, become a part of that strategy. Graham Feek\, Deputy CEO for Greenwood Academies joins us to provide his experience and perspective. \nThe session will provide up to the minute strategic insight; reflection; discussion and the opportunity to connect with peer COOs – all guided by leading thinkers. In this session we want to give you the space and support to reflect on how you approach these ever-testing times. \nAgenda\n9.30am – Welcome from our national #TrustLeaders COO network Guest Chair – Charlie Tebbutt\, Forum Strategy Associate\n9.35am – Strategic update – key themes for trusts in 2023 – Alice Gregson\, Executive Director\, Forum Strategy\n9.50am – How have trusts been navigating the cost of living crisis – The Key\n10.10am – What does it mean to be a trust at the heart of your community? What is the COO’s role in this?\n10.30am – Developing fit for purpose\, sustainable estates; what does a good estates strategy look like? – Dr Sharon Wright\, The Learning Crowd\n11.00am – Headlines from the recent academies regulatory and commissioning review including the potential implications for the academies handbook – Graham Shaw\, Consultant\, Wrigleys Solictors\n11.20am – Using technology to drive efficiency and effectiveness across the trust- Graham Feek\, Deputy CEO\, Greenwood Academies Trust\, Deputy CEO\n11.50am – Final comments and close \nPlease note The Key and Wrigleys are part of a paid for partnership with Forum Strategy. When selecting our partners we do so with careful reference to their expertise and their ethos and values. \nTo book onto the COO network session\, please book using the following form. Please note that you must be a current individual member of the Forum Strategy national COO network to attend: \nBooking Form
URL:https://forumstrategy.org/event/national-trustleaders-coo-network/
CATEGORIES:National Event
ATTACH;FMTTYPE=image/jpeg:https://forumstrategy.org/wp-content/uploads/2021/10/eventbrite-online-event.jpg
END:VEVENT
END:VCALENDAR