BEGIN:VCALENDAR
VERSION:2.0
PRODID:-//Forum Strategy - ECPv6.15.20//NONSGML v1.0//EN
CALSCALE:GREGORIAN
METHOD:PUBLISH
X-WR-CALNAME:Forum Strategy
X-ORIGINAL-URL:https://forumstrategy.org
X-WR-CALDESC:Events for Forum Strategy
REFRESH-INTERVAL;VALUE=DURATION:PT1H
X-Robots-Tag:noindex
X-PUBLISHED-TTL:PT1H
BEGIN:VTIMEZONE
TZID:Europe/London
BEGIN:DAYLIGHT
TZOFFSETFROM:+0000
TZOFFSETTO:+0100
TZNAME:BST
DTSTART:20230326T010000
END:DAYLIGHT
BEGIN:STANDARD
TZOFFSETFROM:+0100
TZOFFSETTO:+0000
TZNAME:GMT
DTSTART:20231029T010000
END:STANDARD
BEGIN:DAYLIGHT
TZOFFSETFROM:+0000
TZOFFSETTO:+0100
TZNAME:BST
DTSTART:20240331T010000
END:DAYLIGHT
BEGIN:STANDARD
TZOFFSETFROM:+0100
TZOFFSETTO:+0000
TZNAME:GMT
DTSTART:20241027T010000
END:STANDARD
BEGIN:DAYLIGHT
TZOFFSETFROM:+0000
TZOFFSETTO:+0100
TZNAME:BST
DTSTART:20250330T010000
END:DAYLIGHT
BEGIN:STANDARD
TZOFFSETFROM:+0100
TZOFFSETTO:+0000
TZNAME:GMT
DTSTART:20251026T010000
END:STANDARD
END:VTIMEZONE
BEGIN:VEVENT
DTSTART;TZID=Europe/London:20241121T093000
DTEND;TZID=Europe/London:20241121T120000
DTSTAMP:20260421T194449
CREATED:20240917T092059Z
LAST-MODIFIED:20240917T105438Z
UID:259322-1732181400-1732190400@forumstrategy.org
SUMMARY:National #TrustLeaders COO Network - 21st November
DESCRIPTION:This COO network meeting will include a range of inputs from experts in areas we know are of particular focus and interest for operations leaders currently. This will include estates management\, staff wellbeing and retention\, legal and compliance issues and taking time to hear from an experienced cross-sector operations leader about their learning and reflections on how to get the best from the role. \nThis COO network will involve: \n– The opportunity to hear from Si Yates as Operations Director of the charity Place2Be (and former British Airways operations and transformation lead) who will reflect on his experiences in executive operations leadership across a large charity (and formally in the private sector) and share his learning with the network. As Place2Be is a charity working closely with the education sector\, Si will also explore how the role of COO in trusts\, can play a pivotal role in forming partnerships that greatly benefit the trust and wider community \n– The opportunity to hear from Dr Sharon Wright from The Learning Crowd\, who will focus on how trusts can ‘do more with less’ when it comes to developing estates\, sharing her learning and insights from working with multiple schools and trusts up and down the country on creating estates that best support learning and development. Fresh from the Education Estates conference\, Sharon will also weave up any key updates from this conference for COO network members to consider \n– A session from our partners at Schools Advisory Service (SAS) on the latest trends around staff wellbeing and it’s links to retention\, considering how you\, as COOs\, can continue to shape and drive cultures that fully support staff health and wellbeing. We will also have a session from Wrigleys Solicitors\, focused on the latest compliance and legal considerations for trusts. \n– Opportunities to hear about the current priorities and challenges of trust COOs from right across the network\, and to share with colleagues how you are responding to some of these issues too \nPlease note that SAS and Wrigleys Solicitors are part of a paid for partnership with Forum Strategy. We also choose our partners based on their specific expertise and ethos. \nTo book onto this event\, you must be a current member of Forum Strategy’s National COO Network. Please use the form below to book your place: \nBooking Form
URL:https://forumstrategy.org/event/national-trustleaders-coo-network-21st-november/
LOCATION:Online
CATEGORIES:Member Network
ATTACH;FMTTYPE=image/jpeg:https://forumstrategy.org/wp-content/uploads/2023/11/national-networks-online-scaled.jpg
END:VEVENT
END:VCALENDAR