BEGIN:VCALENDAR
VERSION:2.0
PRODID:-//Forum Strategy - ECPv6.15.20//NONSGML v1.0//EN
CALSCALE:GREGORIAN
METHOD:PUBLISH
X-WR-CALNAME:Forum Strategy
X-ORIGINAL-URL:https://forumstrategy.org
X-WR-CALDESC:Events for Forum Strategy
REFRESH-INTERVAL;VALUE=DURATION:PT1H
X-Robots-Tag:noindex
X-PUBLISHED-TTL:PT1H
BEGIN:VTIMEZONE
TZID:Europe/London
BEGIN:DAYLIGHT
TZOFFSETFROM:+0000
TZOFFSETTO:+0100
TZNAME:BST
DTSTART:20240331T010000
END:DAYLIGHT
BEGIN:STANDARD
TZOFFSETFROM:+0100
TZOFFSETTO:+0000
TZNAME:GMT
DTSTART:20241027T010000
END:STANDARD
BEGIN:DAYLIGHT
TZOFFSETFROM:+0000
TZOFFSETTO:+0100
TZNAME:BST
DTSTART:20250330T010000
END:DAYLIGHT
BEGIN:STANDARD
TZOFFSETFROM:+0100
TZOFFSETTO:+0000
TZNAME:GMT
DTSTART:20251026T010000
END:STANDARD
BEGIN:DAYLIGHT
TZOFFSETFROM:+0000
TZOFFSETTO:+0100
TZNAME:BST
DTSTART:20260329T010000
END:DAYLIGHT
BEGIN:STANDARD
TZOFFSETFROM:+0100
TZOFFSETTO:+0000
TZNAME:GMT
DTSTART:20261025T010000
END:STANDARD
END:VTIMEZONE
BEGIN:VEVENT
DTSTART;TZID=Europe/London:20250313T093000
DTEND;TZID=Europe/London:20250313T120000
DTSTAMP:20260421T050310
CREATED:20250121T085142Z
LAST-MODIFIED:20250121T093321Z
UID:260485-1741858200-1741867200@forumstrategy.org
SUMMARY:National #TrustLeaders COO Network
DESCRIPTION:This COO network meeting will focus on key areas to support effective operations leadership in trusts\, providing a space for operations leaders to gain insights\, share experiences\, and explore best practices. With the ever-evolving challenges in education\, this session will offer expert input and discussion on the current education landscape\, the COO’s role in driving and measuring inclusion across trusts\, legal and compliance issues\, and leadership reflections from an experienced cross-sector operations leader. \nThis COO network will be led by Alice Gregson\, CEO of Forum Strategy\, and will involve: \n– The opportunity to hear from Emma Challans-Rasool\, who leads the NHS national network for operations leaders Proud2bOps who describe themselves as ‘an operational movement’ across healthcare settings. Emma will share her extensive experience in operations leadership\, reflecting on the key strategies that can drive efficiency and effectiveness across organisations and drawing upon her learning from leading a national network of operations leaders across the NHS. She will provide valuable insights into leading operations areas successfully while maintaining a strong focus on organisational culture and development. \n– A session from Nic Ponsford\, Co-CEO of The Global Equality Collective\, who will discuss the importance of inclusive leadership in operational roles. She will offer insights into creating equitable and diverse trust cultures\, ensuring that operational leadership remains a driving force for positive change. \n– A session from Wrigleys Solicitors\, focusing on the latest compliance and legal considerations for trusts. This will include key updates and good practices to help COOs navigate complex legal landscapes and maintain strong governance structures. \n– A session led by Alice Gregson\, CEO of Forum Strategy\, who will provide an overview of the current challenges and priorities facing operations leaders in trusts. This session will offer practical strategies and reflections on leading through complexity and driving operational excellence. \n– Opportunities to hear about the current priorities and challenges of trust COOs from across the network\, fostering collaboration and the sharing of insights on how leaders are responding to sector-wide issues. \nWith trust operations leadership playing a critical role in ensuring the smooth and effective running of trusts\, this event will offer an invaluable space for reflection\, discussion\, and forward-thinking strategy. We look forward to welcoming you to this important session. \nPlease note that Wrigleys Solictors and The Global Equality Collective are part of a paid for partnership with Forum Strategy. We choose our partners carefully based on their specific expertise and ethos. \nTo book onto this event\, you must be a current member of Forum Strategy’s National COO Network. Please use the form below to book your place: \nBooking Form
URL:https://forumstrategy.org/event/national-trustleaders-coo-network-13th-march-2025/
LOCATION:Online
CATEGORIES:Member Network
ATTACH;FMTTYPE=image/jpeg:https://forumstrategy.org/wp-content/uploads/2023/11/national-networks-online-scaled.jpg
END:VEVENT
END:VCALENDAR