BEGIN:VCALENDAR
VERSION:2.0
PRODID:-//Forum Strategy - ECPv6.15.20//NONSGML v1.0//EN
CALSCALE:GREGORIAN
METHOD:PUBLISH
X-WR-CALNAME:Forum Strategy
X-ORIGINAL-URL:https://forumstrategy.org
X-WR-CALDESC:Events for Forum Strategy
REFRESH-INTERVAL;VALUE=DURATION:PT1H
X-Robots-Tag:noindex
X-PUBLISHED-TTL:PT1H
BEGIN:VTIMEZONE
TZID:Europe/London
BEGIN:DAYLIGHT
TZOFFSETFROM:+0000
TZOFFSETTO:+0100
TZNAME:BST
DTSTART:20220327T010000
END:DAYLIGHT
BEGIN:STANDARD
TZOFFSETFROM:+0100
TZOFFSETTO:+0000
TZNAME:GMT
DTSTART:20221030T010000
END:STANDARD
BEGIN:DAYLIGHT
TZOFFSETFROM:+0000
TZOFFSETTO:+0100
TZNAME:BST
DTSTART:20230326T010000
END:DAYLIGHT
BEGIN:STANDARD
TZOFFSETFROM:+0100
TZOFFSETTO:+0000
TZNAME:GMT
DTSTART:20231029T010000
END:STANDARD
BEGIN:DAYLIGHT
TZOFFSETFROM:+0000
TZOFFSETTO:+0100
TZNAME:BST
DTSTART:20240331T010000
END:DAYLIGHT
BEGIN:STANDARD
TZOFFSETFROM:+0100
TZOFFSETTO:+0000
TZNAME:GMT
DTSTART:20241027T010000
END:STANDARD
END:VTIMEZONE
BEGIN:VEVENT
DTSTART;TZID=Europe/London:20230309T093000
DTEND;TZID=Europe/London:20230309T120000
DTSTAMP:20260422T035710
CREATED:20230124T113228Z
LAST-MODIFIED:20230130T172808Z
UID:251513-1678354200-1678363200@forumstrategy.org
SUMMARY:National #TrustLeaders CEO Network
DESCRIPTION:What does it mean to lead a thriving\, flourishing trust? How do we move away from a narrow definition of ‘strong trusts’ to something more meaningful and importantly\, co-constructed with the sector? Following the publication of our first thinkpiece on what it means to be a thriving trust and how\, as CEOs\, you make the case to schools and communities for being part of a thriving trust: https://forumstrategy.org/thriving-trusts-thinkpiece-1/\, a second (in the series) will follow in February. This is an important topic of discussion for the sector as we seek to consider what a thriving\, flourishing\, inclusive environment looks and feels like for pupils\, staff and communities and how it also enables significant improvement at scale and improved outcomes for all. \nThe next national CEO network will open up discussions around this theme\, bringing in different views and perspectives\, including the consideration of what a thriving organisation beyond education looks and feels like. We will begin with considering key themes and priorities ahead for 2023\, before we discuss the concept of a ‘thriving trust’ and what this means to you as CEOs. We will also hear from Alistair Dutton\, CEO of an international aid organisation\, SCIAF\, who – as an experienced Chief Executive – will give his thoughts on how to succeed and thrive in the role\, especially when working at scale and across geographical distance; his reflections and tips on current strategic priorities for executive leaders that are facing all organisations; and his advice on leading a thriving\, inclusive organisation that puts those who access services at its heart. The session will be guided by network Chair\, Sir Steve Lancashire – drawing on his experience as former CEO of one of the country’s largest trusts. \nWe will provide up to the minute strategic insight; reflection; discussion and the opportunity to connect with peer CEOs – all guided by expert CEOs and thinkers. In this session we want to give you the space and support to reflect on how you approach these ever testing times. \nAgenda\n9.30am – Welcome – Sir Steve Lancashire\, Network Chair\n9.40am –  Strategic update – key themes for trusts in 2023 – Alice Gregson\, Executive Director\, Forum Strategy\n10.00am – What does it mean to be an effective\, thriving trust mean in 2023? – David Horn\, Forum Strategy Associate & former trust CEO\n11.00am – Being the CEO in 2023 – a cross sector perspective – Alistair Dutton\, CEO\, SCIAF\n11.40am – The importance of wellbeing to thriving trusts – key areas for 2023 – John Brady\, Managing Director\, Schools Advisory Service\n12pm – Final thoughts and close \nPlease note SAS are part of a paid for partnership with Forum Strategy. When selecting our partners we do so with careful reference to their expertise and their ethos and values \nTo book onto the CEO network session\, please book using the following form. Please note that you must be a current individual member of the Forum Strategy CEO network to attend: \nBooking Form
URL:https://forumstrategy.org/event/national-trustleaders-ceo-network-9th-march-23/
LOCATION:Online
CATEGORIES:Member Network
ATTACH;FMTTYPE=image/jpeg:https://forumstrategy.org/wp-content/uploads/2021/10/eventbrite-online-event.jpg
END:VEVENT
END:VCALENDAR