BEGIN:VCALENDAR
VERSION:2.0
PRODID:-//Forum Strategy - ECPv6.15.20//NONSGML v1.0//EN
CALSCALE:GREGORIAN
METHOD:PUBLISH
X-WR-CALNAME:Forum Strategy
X-ORIGINAL-URL:https://forumstrategy.org
X-WR-CALDESC:Events for Forum Strategy
REFRESH-INTERVAL;VALUE=DURATION:PT1H
X-Robots-Tag:noindex
X-PUBLISHED-TTL:PT1H
BEGIN:VTIMEZONE
TZID:Europe/London
BEGIN:DAYLIGHT
TZOFFSETFROM:+0000
TZOFFSETTO:+0100
TZNAME:BST
DTSTART:20240331T010000
END:DAYLIGHT
BEGIN:STANDARD
TZOFFSETFROM:+0100
TZOFFSETTO:+0000
TZNAME:GMT
DTSTART:20241027T010000
END:STANDARD
BEGIN:DAYLIGHT
TZOFFSETFROM:+0000
TZOFFSETTO:+0100
TZNAME:BST
DTSTART:20250330T010000
END:DAYLIGHT
BEGIN:STANDARD
TZOFFSETFROM:+0100
TZOFFSETTO:+0000
TZNAME:GMT
DTSTART:20251026T010000
END:STANDARD
BEGIN:DAYLIGHT
TZOFFSETFROM:+0000
TZOFFSETTO:+0100
TZNAME:BST
DTSTART:20260329T010000
END:DAYLIGHT
BEGIN:STANDARD
TZOFFSETFROM:+0100
TZOFFSETTO:+0000
TZNAME:GMT
DTSTART:20261025T010000
END:STANDARD
END:VTIMEZONE
BEGIN:VEVENT
DTSTART;TZID=Europe/London:20250925T093000
DTEND;TZID=Europe/London:20250925T103000
DTSTAMP:20260421T193053
CREATED:20250910T115504Z
LAST-MODIFIED:20250910T115504Z
UID:261899-1758792600-1758796200@forumstrategy.org
SUMMARY:National Education Leaders Network Meeting
DESCRIPTION:Our first network meeting of this academic year for our Education Leaders national network\, will take place online on September 25th 9am-10.30am. The session will be chaired by Forum Strategy Associate and former trust CEO and HMI\, Frank Norris MBE. This will be a fully interactive session where you will have the chance to meet and connect with others across the network\, hear from Frank Norris and Alice Gregson about the national context for education as we begin a new academic year\, and to share your own priorities and challenges for the year ahead and how the network might support you with these. \nJoin us as we spend some time on the following: \n\nA welcome to and overview of your Forum Strategy Education Leaders Network membership (led by Alice Gregson\, CEO\, Forum Strategy)\nFacilitated introductions to each other as our national network members so you can start to develop and build upon peer connections across the country\nA recap of our 7 pillars of improvement at scale mode and it’s applicability to your role within your trust\nSome time to discuss as a network\, your priorities for the year ahead and some thoughts from Frank about the national context we will be working within as we move forwards\n\n  \nTo join this network meeting\, you must be a member of our national Education Leaders network (our CEO and COO networks have their own network meetings in place). Invitations have been sent out to members of the network – please accept or decline this invitation.
URL:https://forumstrategy.org/event/national-education-leaders-network-meeting/
LOCATION:Online
CATEGORIES:Member Network
ATTACH;FMTTYPE=image/jpeg:https://forumstrategy.org/wp-content/uploads/2025/04/Ed-Leaders-Network.jpg
END:VEVENT
END:VCALENDAR