BEGIN:VCALENDAR
VERSION:2.0
PRODID:-//Forum Strategy - ECPv6.15.20//NONSGML v1.0//EN
CALSCALE:GREGORIAN
METHOD:PUBLISH
X-WR-CALNAME:Forum Strategy
X-ORIGINAL-URL:https://forumstrategy.org
X-WR-CALDESC:Events for Forum Strategy
REFRESH-INTERVAL;VALUE=DURATION:PT1H
X-Robots-Tag:noindex
X-PUBLISHED-TTL:PT1H
BEGIN:VTIMEZONE
TZID:Europe/London
BEGIN:DAYLIGHT
TZOFFSETFROM:+0000
TZOFFSETTO:+0100
TZNAME:BST
DTSTART:20210328T010000
END:DAYLIGHT
BEGIN:STANDARD
TZOFFSETFROM:+0100
TZOFFSETTO:+0000
TZNAME:GMT
DTSTART:20211031T010000
END:STANDARD
BEGIN:DAYLIGHT
TZOFFSETFROM:+0000
TZOFFSETTO:+0100
TZNAME:BST
DTSTART:20220327T010000
END:DAYLIGHT
BEGIN:STANDARD
TZOFFSETFROM:+0100
TZOFFSETTO:+0000
TZNAME:GMT
DTSTART:20221030T010000
END:STANDARD
BEGIN:DAYLIGHT
TZOFFSETFROM:+0000
TZOFFSETTO:+0100
TZNAME:BST
DTSTART:20230326T010000
END:DAYLIGHT
BEGIN:STANDARD
TZOFFSETFROM:+0100
TZOFFSETTO:+0000
TZNAME:GMT
DTSTART:20231029T010000
END:STANDARD
END:VTIMEZONE
BEGIN:VEVENT
DTSTART;TZID=Europe/London:20220912T100000
DTEND;TZID=Europe/London:20220912T120000
DTSTAMP:20260422T230712
CREATED:20220705T101552Z
LAST-MODIFIED:20220906T131543Z
UID:250589-1662976800-1662984000@forumstrategy.org
SUMMARY:Members Masterclass; connecting and engaging with schools who could potentially join your trust
DESCRIPTION:The Schools White Paper has set out ambitions for a fully academised education system by 2030. In order to realise this and its full potential\, we need those numerous trusts with high potential to continue to grow and develop with care\, taking on more schools who share their vision and values and who can be both supporters and reciprocal contributors to the important work that trusts do for schools collectively. Trusts are planning for this now – but ensuring that we engage potential new joiner schools effectively\, with care\, and with an eye to sustainable growth is critical. \nIn this Members’ Masterclass\, individual members of Forum Strategy’s CEO\, COO and Education Executives networks will be able to hear from and engage with leading thinkers and practitioners in this space; learning from the strategies\, practices (and mistakes) of people who have been close to trust growth over the years. Contributors at the session will include Michael Pain\, founder of Forum Strategy and a key authority on the trust sector’s growth and development; Adrian Rogers\, CEO of Chiltern Learning Trust\, a trust of fifteen schools serving Luton and the surrounding area; and Katie Whirledge\, CEO of Papillon Communications and an adviser to schools’ trusts and large nursery sector organisations. \nThe session will include: \n10am – 10.25am: The impetus for growth; approaching and making the case to new schools; and ensuring growth is right for all involved – Michael Pain\, Founder\, Forum Strategy\n10.25am – 10.50am: Reflecting on experience; bringing people with us and growing with care – Adrian Rogers\, CEO\, Chiltern Learning Trust\nPlus Q&A\n11.00am – 11.20am: Enthusing and engaging schools around joining the trust\, setting clear expectations – David Horn; Forum Strategy Associate\nPlus Q & A\n11.30am Winning hearts and minds – the importance of communications in trust growth and development – Katie Whirledge\, CEO\, Papillon Communications (Forum Strategy Partners)\n11.50am: Summary and Close \nThe session will include ample opportunities to engage with contributors and learn from other trust leaders. \nPlease note that Papillon Communications are part of a ‘paid for’ partnership with Forum Strategy. We also choose our partners based on their experience\, expertise and ethos. \nTo book onto this event please use the form below. \nBooking Form
URL:https://forumstrategy.org/event/members-masterclass-connecting-and-engaging-with-schools-who-could-potentially-join-your-trust/
LOCATION:Online
CATEGORIES:Special Event
ATTACH;FMTTYPE=image/jpeg:https://forumstrategy.org/wp-content/uploads/2021/10/eventbrite-online-event.jpg
END:VEVENT
END:VCALENDAR