BEGIN:VCALENDAR
VERSION:2.0
PRODID:-//Forum Strategy - ECPv6.15.20//NONSGML v1.0//EN
CALSCALE:GREGORIAN
METHOD:PUBLISH
X-WR-CALNAME:Forum Strategy
X-ORIGINAL-URL:https://forumstrategy.org
X-WR-CALDESC:Events for Forum Strategy
REFRESH-INTERVAL;VALUE=DURATION:PT1H
X-Robots-Tag:noindex
X-PUBLISHED-TTL:PT1H
BEGIN:VTIMEZONE
TZID:Europe/London
BEGIN:DAYLIGHT
TZOFFSETFROM:+0000
TZOFFSETTO:+0100
TZNAME:BST
DTSTART:20240331T010000
END:DAYLIGHT
BEGIN:STANDARD
TZOFFSETFROM:+0100
TZOFFSETTO:+0000
TZNAME:GMT
DTSTART:20241027T010000
END:STANDARD
BEGIN:DAYLIGHT
TZOFFSETFROM:+0000
TZOFFSETTO:+0100
TZNAME:BST
DTSTART:20250330T010000
END:DAYLIGHT
BEGIN:STANDARD
TZOFFSETFROM:+0100
TZOFFSETTO:+0000
TZNAME:GMT
DTSTART:20251026T010000
END:STANDARD
BEGIN:DAYLIGHT
TZOFFSETFROM:+0000
TZOFFSETTO:+0100
TZNAME:BST
DTSTART:20260329T010000
END:DAYLIGHT
BEGIN:STANDARD
TZOFFSETFROM:+0100
TZOFFSETTO:+0000
TZNAME:GMT
DTSTART:20261025T010000
END:STANDARD
END:VTIMEZONE
BEGIN:VEVENT
DTSTART;TZID=Europe/London:20250401T083000
DTEND;TZID=Europe/London:20250401T093000
DTSTAMP:20260421T063754
CREATED:20250304T082055Z
LAST-MODIFIED:20250304T082055Z
UID:260826-1743496200-1743499800@forumstrategy.org
SUMMARY:Members' Breakfast Briefing: Trust leaders in conversation with Ofsted
DESCRIPTION:Join us for this special members’ briefing with Lee Owston\, National Director for Education at Ofsted\, to directly share your views\, concerns\, questions and ideas around the new Ofsted proposals. \nAt the beginning of February\, Ofsted shared how it intends to reform the inspection process through the introduction of report cards and has put their initial plans out for consultation. As part of this consultation period\, Ofsted are keen to engage with and hear from a range of stakeholders. At the end of February\, Lee joined our ‘Taking stock of accountability’ members’ breakfast briefing alongside Jon Andrews from EPI and following on from that\, has been keen to hear further from trust leaders. \nThis session\, led and facilitated by Forum Strategy\, offers the opportunity to have a direct and open discussion with a senior leader from Ofsted in order to professionally challenge and help to shape the future of the approach and framework for inspections moving forward. Lee will share further details about the proposals and how Ofsted see these being shaped and refined by feedback and we will then open up the majority of the session to questions and discussion with those attending. Don’t miss this unique opportunity to verbally share your feedback and ideas\, helping to shape the future of inspections in England. \nTo book onto this event\, you must be a member of (or have been invited by a member of) our national CEO\, COO or Education Leaders’ networks. Please use the short form below to book your place: \nBooking Form\n\n \n\n\n\nName *\n\n\n\n\nEmail Address *\n\n\n\n\nTrust/Organisation *\n\n\n\n\nAre you a current member of a Forum Strategy network? *YesNo\n\n\n\n\nMembership Type *Please select an option#TrustLeaders CEO Network#TrustLeaders COO NetworkEducation ExecutivePartner or AssociateNot a member\n\n\n\n\nName of the person who invited you *If you are not a member of a Forum Strategy network\, please provide the name of the member that invited you\n\n\n\n\nConsent * \n \n\nYes\, I agree with the privacy policy and terms and conditions. \n\n\n\n\n\n \n\n\nSend Message\n\n\nPlease do not fill in this field.
URL:https://forumstrategy.org/event/members-breakfast-briefing-trust-leaders-in-conversation-with-ofsted/
LOCATION:Online
CATEGORIES:Breakfast Briefing
ATTACH;FMTTYPE=image/jpeg:https://forumstrategy.org/wp-content/uploads/2023/11/Members-Breakfast-Briefing-scaled.jpg
END:VEVENT
END:VCALENDAR