BEGIN:VCALENDAR
VERSION:2.0
PRODID:-//Forum Strategy - ECPv6.15.20//NONSGML v1.0//EN
CALSCALE:GREGORIAN
METHOD:PUBLISH
X-WR-CALNAME:Forum Strategy
X-ORIGINAL-URL:https://forumstrategy.org
X-WR-CALDESC:Events for Forum Strategy
REFRESH-INTERVAL;VALUE=DURATION:PT1H
X-Robots-Tag:noindex
X-PUBLISHED-TTL:PT1H
BEGIN:VTIMEZONE
TZID:Europe/London
BEGIN:DAYLIGHT
TZOFFSETFROM:+0000
TZOFFSETTO:+0100
TZNAME:BST
DTSTART:20210328T010000
END:DAYLIGHT
BEGIN:STANDARD
TZOFFSETFROM:+0100
TZOFFSETTO:+0000
TZNAME:GMT
DTSTART:20211031T010000
END:STANDARD
BEGIN:DAYLIGHT
TZOFFSETFROM:+0000
TZOFFSETTO:+0100
TZNAME:BST
DTSTART:20220327T010000
END:DAYLIGHT
BEGIN:STANDARD
TZOFFSETFROM:+0100
TZOFFSETTO:+0000
TZNAME:GMT
DTSTART:20221030T010000
END:STANDARD
BEGIN:DAYLIGHT
TZOFFSETFROM:+0000
TZOFFSETTO:+0100
TZNAME:BST
DTSTART:20230326T010000
END:DAYLIGHT
BEGIN:STANDARD
TZOFFSETFROM:+0100
TZOFFSETTO:+0000
TZNAME:GMT
DTSTART:20231029T010000
END:STANDARD
END:VTIMEZONE
BEGIN:VEVENT
DTSTART;TZID=Europe/London:20221124T083000
DTEND;TZID=Europe/London:20221124T093000
DTSTAMP:20260422T181303
CREATED:20221018T073554Z
LAST-MODIFIED:20221027T135328Z
UID:251011-1669278600-1669282200@forumstrategy.org
SUMMARY:Members' Breakfast Briefing: sharing key learning from Ofsted Summary Evaluations for academy trusts
DESCRIPTION:Members’ Breakfast Briefing: sharing key learning from Ofsted Summary Evaluations for academy trusts – 24th November 2022 8.30am-9.30am \nAll CEOs\, COO and Education Executive members are invited to this breakfast briefing on the 24th November looking at some of the key trends emerging from Ofsted’s recent summary evaluations of academy trusts\, particularly looking at aspects related to leadership\, capacity and growth\, and how they use data and evidence. \nWe are delighted to be joined by Frank Norris MBE\, former senior HMI manager responsible for school\, early years and initial teacher education including Framework Development and former CEO of Co-op Academies Trust\, who will chair this special briefing for Forum members. We are also delighted to welcome Richard Crane\, CEO of Arete Learning Trust and serving Ofsted inspector (having recently completed training specifically on conducting Summative visits)\, who will provide an overview of his recent experience in having his trust undergo a summary evaluation. \nThe session will cover key themes and trends emerging from recent evaluations and offer important learning for our members. To book onto this event\, please use the form below – please note you must be an active member of Forum Strategy’s CEO\, COO or Education Executives networks to book. \nBooking Form
URL:https://forumstrategy.org/event/members-breakfast-briefing-sharing-key-learning-from-ofsted-summary-evaluations-for-academy-trusts/
LOCATION:Online
CATEGORIES:Breakfast Briefing
ATTACH;FMTTYPE=image/jpeg:https://forumstrategy.org/wp-content/uploads/2021/10/eventbrite-online-event.jpg
END:VEVENT
END:VCALENDAR