BEGIN:VCALENDAR
VERSION:2.0
PRODID:-//Forum Strategy - ECPv6.15.20//NONSGML v1.0//EN
CALSCALE:GREGORIAN
METHOD:PUBLISH
X-WR-CALNAME:Forum Strategy
X-ORIGINAL-URL:https://forumstrategy.org
X-WR-CALDESC:Events for Forum Strategy
REFRESH-INTERVAL;VALUE=DURATION:PT1H
X-Robots-Tag:noindex
X-PUBLISHED-TTL:PT1H
BEGIN:VTIMEZONE
TZID:Europe/London
BEGIN:DAYLIGHT
TZOFFSETFROM:+0000
TZOFFSETTO:+0100
TZNAME:BST
DTSTART:20240331T010000
END:DAYLIGHT
BEGIN:STANDARD
TZOFFSETFROM:+0100
TZOFFSETTO:+0000
TZNAME:GMT
DTSTART:20241027T010000
END:STANDARD
BEGIN:DAYLIGHT
TZOFFSETFROM:+0000
TZOFFSETTO:+0100
TZNAME:BST
DTSTART:20250330T010000
END:DAYLIGHT
BEGIN:STANDARD
TZOFFSETFROM:+0100
TZOFFSETTO:+0000
TZNAME:GMT
DTSTART:20251026T010000
END:STANDARD
BEGIN:DAYLIGHT
TZOFFSETFROM:+0000
TZOFFSETTO:+0100
TZNAME:BST
DTSTART:20260329T010000
END:DAYLIGHT
BEGIN:STANDARD
TZOFFSETFROM:+0100
TZOFFSETTO:+0000
TZNAME:GMT
DTSTART:20261025T010000
END:STANDARD
END:VTIMEZONE
BEGIN:VEVENT
DTSTART;TZID=Europe/London:20250522T090000
DTEND;TZID=Europe/London:20250522T120000
DTSTAMP:20260421T081519
CREATED:20250401T123629Z
LAST-MODIFIED:20250403T101343Z
UID:260982-1747904400-1747915200@forumstrategy.org
SUMMARY:Education Leaders' National Network Meeting 22nd May
DESCRIPTION:Our fifth meeting of our national Education Leaders national network this academic year will focus on the role of education executives in trust growth\, particularly exploring how education leaders can help to maintain and sustain an inclusive and high-performance improvement culture as the organisation grows and evolves. We will bring together school improvement and educational leaders from across the country with their peers and with leading experts – including our guest speakers Andy Moorcroft\, CEO of The Challenge Academy Trust and Nathaniel Butters\, CEO of the company ECO Surv. The network is Chaired by former CEO of Co-op Academies\, Frank Norris MBE. \nThe session will: \n– provide a space for education leaders network members to consider and reflect on any recent national and policy developments and the implications for their trusts –  this will be led by Frank Norris; \n– consider some of the key issues and opportunities around trust growth through the lens of an education leader and how the improvement culture of the trust can evolve and perhaps even be enhanced\, with the joining of new schools. This will include opportunities to hear from expert contributors and time to share good practice and peer learning across the group. These sessions will include an education and a cross-sector perspective and will be led by Andy Moorcroft\, CEO of The Challenge Academy Trust (a trust that has gone through recent growth and continues to grow) and Nathaniel Butters\, CEO of the start-up company ECO Surv (an organisation who have expanded and grown significantly over the last few years). Their inputs will provide leaders with useful insights into the current landscape\, and some potential ideas and strategies to take back to their trusts. We will also signpost to useful resources; \n– There will also be time for Education Leaders to network and connect with their peers more informally \nTo join this network meeting\, you must be a member of our national Education Leaders network (our CEO and COO networks have their own network meetings in place). Please use the short form below to register your place. \nBooking Form
URL:https://forumstrategy.org/event/education-leaders-national-network-meeting-22nd-may/
LOCATION:Online
CATEGORIES:Member Network
ATTACH;FMTTYPE=image/jpeg:https://forumstrategy.org/wp-content/uploads/2025/04/Ed-Leaders-Network.jpg
END:VEVENT
END:VCALENDAR