BEGIN:VCALENDAR
VERSION:2.0
PRODID:-//Forum Strategy - ECPv6.15.20//NONSGML v1.0//EN
CALSCALE:GREGORIAN
METHOD:PUBLISH
X-WR-CALNAME:Forum Strategy
X-ORIGINAL-URL:https://forumstrategy.org
X-WR-CALDESC:Events for Forum Strategy
REFRESH-INTERVAL;VALUE=DURATION:PT1H
X-Robots-Tag:noindex
X-PUBLISHED-TTL:PT1H
BEGIN:VTIMEZONE
TZID:Europe/London
BEGIN:DAYLIGHT
TZOFFSETFROM:+0000
TZOFFSETTO:+0100
TZNAME:BST
DTSTART:20240331T010000
END:DAYLIGHT
BEGIN:STANDARD
TZOFFSETFROM:+0100
TZOFFSETTO:+0000
TZNAME:GMT
DTSTART:20241027T010000
END:STANDARD
BEGIN:DAYLIGHT
TZOFFSETFROM:+0000
TZOFFSETTO:+0100
TZNAME:BST
DTSTART:20250330T010000
END:DAYLIGHT
BEGIN:STANDARD
TZOFFSETFROM:+0100
TZOFFSETTO:+0000
TZNAME:GMT
DTSTART:20251026T010000
END:STANDARD
BEGIN:DAYLIGHT
TZOFFSETFROM:+0000
TZOFFSETTO:+0100
TZNAME:BST
DTSTART:20260329T010000
END:DAYLIGHT
BEGIN:STANDARD
TZOFFSETFROM:+0100
TZOFFSETTO:+0000
TZNAME:GMT
DTSTART:20261025T010000
END:STANDARD
END:VTIMEZONE
BEGIN:VEVENT
DTSTART;VALUE=DATE:20250327
DTEND;VALUE=DATE:20250328
DTSTAMP:20260421T045406
CREATED:20241023T094701Z
LAST-MODIFIED:20250115T134857Z
UID:259915-1743033600-1743119999@forumstrategy.org
SUMMARY:Education Leaders Network Study Visits
DESCRIPTION:A core component of our Education Leaders network is the sharing of practice and insights across trusts up and down the country. In March 2025\, we are offering the opportunity for our Education Leaders network to join a study visit to one of two trusts\, both in very different areas of the country and working in very different settings. Our study visits will take a deep dive into trust-wide school improvement through the lens of Forum Strategy’s 7 Pillars of Improvement at Scale\, offering the opportunity to explore this with the host trust in detail. The day will be carefully facilitated to ensure the exchange of practice and ideas. \nOur two host trusts will be as follows and network members can select which trust they would prefer to visit\, based on which might offer more relevant learning to their context:\n– Focus Trust is led by CEO Helen Rowland and is a 15 school primary multi-academy trust based in the North West of England (visit likely to take place in Oldham)\n– Kings Group Academies is led by CEO Nick Cross and is a 14 school mixed phase multi-academy trust (including primary\, secondary\, special and all-through) based in the South East of England (visit can take place in Reading or Portsmouth) \nStudy Visit Agenda \n9.15- 9.30am: Arrival\n9.35am: Welcome – The 7 pillars of improvement at scale and the areas we are considering as part of that; led by Forum Chair/Representative\n10.05am: Participants share their reflections on the 7 pillars\n10.30am: Generating the vision\, culture and capacity for improvement at scale (with questions) – CEO of host trust\n11.00am; Break\n11.15am: Leading improvement at scale; The roles\, processes and data that drives improvement at scale across the trust;  School Improvement Directors of the host trust\n12.00pm: Lunch – including a 20 minute tour of the host school if possible\n12.50pm: Delivering improvement at scale; the role of expert leaders and practitioners in driving improvement across the trust; Those leading improvement practice\, CPD\, such as NLEs/LLEs/SLEs etc.\n1.30pm: Being a headteacher at the trust and schools’ experience of the improvement model; reflections from two headteachers\n2pm; Reflective sessions; attendees reflect on the the trust visit with reference to the seven pillar reflective questions. The hosts leave the room and return for the last 40 minutes to hear feedback for the host trust\n3.30pm: Close \nTo join this study visit\, you must be a member of our national CEO or Education Leaders networks. \nPlaces for our study visits are now full.
URL:https://forumstrategy.org/event/education-executives-study-visits-27th-march-all-day/
CATEGORIES:Member Network
ATTACH;FMTTYPE=image/jpeg:https://forumstrategy.org/wp-content/uploads/2024/08/Ed-Execs-networks-scaled.jpg
END:VEVENT
END:VCALENDAR