BEGIN:VCALENDAR
VERSION:2.0
PRODID:-//Forum Strategy - ECPv6.15.20//NONSGML v1.0//EN
CALSCALE:GREGORIAN
METHOD:PUBLISH
X-WR-CALNAME:Forum Strategy
X-ORIGINAL-URL:https://forumstrategy.org
X-WR-CALDESC:Events for Forum Strategy
REFRESH-INTERVAL;VALUE=DURATION:PT1H
X-Robots-Tag:noindex
X-PUBLISHED-TTL:PT1H
BEGIN:VTIMEZONE
TZID:Europe/London
BEGIN:DAYLIGHT
TZOFFSETFROM:+0000
TZOFFSETTO:+0100
TZNAME:BST
DTSTART:20210328T010000
END:DAYLIGHT
BEGIN:STANDARD
TZOFFSETFROM:+0100
TZOFFSETTO:+0000
TZNAME:GMT
DTSTART:20211031T010000
END:STANDARD
BEGIN:DAYLIGHT
TZOFFSETFROM:+0000
TZOFFSETTO:+0100
TZNAME:BST
DTSTART:20220327T010000
END:DAYLIGHT
BEGIN:STANDARD
TZOFFSETFROM:+0100
TZOFFSETTO:+0000
TZNAME:GMT
DTSTART:20221030T010000
END:STANDARD
BEGIN:DAYLIGHT
TZOFFSETFROM:+0000
TZOFFSETTO:+0100
TZNAME:BST
DTSTART:20230326T010000
END:DAYLIGHT
BEGIN:STANDARD
TZOFFSETFROM:+0100
TZOFFSETTO:+0000
TZNAME:GMT
DTSTART:20231029T010000
END:STANDARD
END:VTIMEZONE
BEGIN:VEVENT
DTSTART;TZID=Europe/London:20220503T083000
DTEND;TZID=Europe/London:20220503T091500
DTSTAMP:20260422T171437
CREATED:20220426T092631Z
LAST-MODIFIED:20220426T095912Z
UID:250053-1651566600-1651569300@forumstrategy.org
SUMMARY:Department for Education Sustainability and Climate Change Strategy: What next for Trust leaders? Members' Breakfast Briefing
DESCRIPTION:We are delighted to welcome our CEO\, COO and Education Executive members – as well as our partners – to our latest Breakfast Briefing on Tuesday 3rd May (8.30am-9.15am). \nOn April 21st the DfE published its long awaited Sustainability and Climate Change Strategy\, outlining the vision for sustainability of the environment across education settings and the ambition for the United Kingdom to be the world-leading education sector in sustainability and climate change by 2030. \nOn Tuesday 3rd May\, Rachael Gacs (communications manager\, Forum Strategy) and Ann Finlayson CEO of SEEd\, will host a special 45 minute briefing with Forum Strategy members\, picking out key policies and plans outlined in the national strategy and considering the important implications for Trusts and in particular\, for Trust leaders. This will be an opportunity for members to learn more about the key elements of the strategy and to reflect upon how you can plan effectively to implement its proposals across your Trust setting. \nAnn Finlayson\, as our special guest speaker\, is the CEO of SEEd (Sustainability and Environmental Education) and the co-Chair of Our Shared World. She has 35 years of experience in environmental and sustainability education teaching\, and training teachers in Scotland\, Papua New Guinea\, Australia\, Canada and the UK. Ann was also a key member of the Steering Group for the DfE’s Sustainability and Climate Change Strategy and will bring some excellent insight into how the strategy was shaped and the ambitions around its implementation. \nTo book onto this event\, please use the form below. \nBooking Form
URL:https://forumstrategy.org/event/department-for-education-sustainability-and-climate-change-strategy-what-next-for-trust-leaders-members-breakfast-briefing/
LOCATION:Online
CATEGORIES:Breakfast Briefing
ATTACH;FMTTYPE=image/jpeg:https://forumstrategy.org/wp-content/uploads/2021/10/eventbrite-online-event.jpg
END:VEVENT
END:VCALENDAR