BEGIN:VCALENDAR
VERSION:2.0
PRODID:-//Forum Strategy - ECPv6.15.20//NONSGML v1.0//EN
CALSCALE:GREGORIAN
METHOD:PUBLISH
X-WR-CALNAME:Forum Strategy
X-ORIGINAL-URL:https://forumstrategy.org
X-WR-CALDESC:Events for Forum Strategy
REFRESH-INTERVAL;VALUE=DURATION:PT1H
X-Robots-Tag:noindex
X-PUBLISHED-TTL:PT1H
BEGIN:VTIMEZONE
TZID:Europe/London
BEGIN:DAYLIGHT
TZOFFSETFROM:+0000
TZOFFSETTO:+0100
TZNAME:BST
DTSTART:20220327T010000
END:DAYLIGHT
BEGIN:STANDARD
TZOFFSETFROM:+0100
TZOFFSETTO:+0000
TZNAME:GMT
DTSTART:20221030T010000
END:STANDARD
BEGIN:DAYLIGHT
TZOFFSETFROM:+0000
TZOFFSETTO:+0100
TZNAME:BST
DTSTART:20230326T010000
END:DAYLIGHT
BEGIN:STANDARD
TZOFFSETFROM:+0100
TZOFFSETTO:+0000
TZNAME:GMT
DTSTART:20231029T010000
END:STANDARD
BEGIN:DAYLIGHT
TZOFFSETFROM:+0000
TZOFFSETTO:+0100
TZNAME:BST
DTSTART:20240331T010000
END:DAYLIGHT
BEGIN:STANDARD
TZOFFSETFROM:+0100
TZOFFSETTO:+0000
TZNAME:GMT
DTSTART:20241027T010000
END:STANDARD
END:VTIMEZONE
BEGIN:VEVENT
DTSTART;TZID=Europe/London:20230517T163000
DTEND;TZID=Europe/London:20230517T171500
DTSTAMP:20260421T213837
CREATED:20230414T142122Z
LAST-MODIFIED:20230414T143934Z
UID:252156-1684341000-1684343700@forumstrategy.org
SUMMARY:Termly Chairs of Trustees Seminar
DESCRIPTION:It is crucial that Chairs of Trustees continue to access the latest insights\, developments and updates from across the system – and invest time in their own ongoing professional development. \nAll Chairs of Trustees whose CEO\, COO and/or Education Executive is a member of Forum Strategy\, are entitled to attend our termly complimentary seminars for Chairs. \nThis term’s event will focus on our recent think piece by Forum Strategy’s founder Michael Pain and international corporate governance expert Patrick Dunne\, on what we mean by thriving governance in multi-academy trusts. The seminar will focus on issues such as the key characteristics of thriving boards\, the relationship between the board and the executive leader\, the interactions between other layers of governance – such as members and local governance committees\, the board’s role in pure accountability\, and much more. \nThis will be an opportunity for Chairs to reflect on some of the latest thinking\, to consider what a thriving board means to them\, and to share their perspectives with other Chairs from across the country. There will also be a sector update from Forum Strategy’s Executive Director\, Alice Gregson. \nTo access this online event\, your Chair can use the booking form below. \nDevelopment days for Trust Boards: Separately\, we are running development events for trust boards\, based on the thinking around thriving trusts and our extensive knowledge of the trust sector. These are a valuable opportunity to provide a rich\, insightful\, and engaging professional development opportunity for whole trust board\, based on careful facilitation by Michael Pain and our extensive and highly credible thought leadership work. Forum Strategy has run development days for dozens of trust boards across the country. To find out more visit: Board Development | Forum Strategy \nBooking Form\n 
URL:https://forumstrategy.org/event/complimentary-chairs-of-trustees-seminar/
LOCATION:Online
CATEGORIES:Chair of Trustees
ATTACH;FMTTYPE=image/jpeg:https://forumstrategy.org/wp-content/uploads/2021/10/eventbrite-online-event.jpg
END:VEVENT
END:VCALENDAR