BEGIN:VCALENDAR
VERSION:2.0
PRODID:-//Forum Strategy - ECPv6.15.20//NONSGML v1.0//EN
CALSCALE:GREGORIAN
METHOD:PUBLISH
X-WR-CALNAME:Forum Strategy
X-ORIGINAL-URL:https://forumstrategy.org
X-WR-CALDESC:Events for Forum Strategy
REFRESH-INTERVAL;VALUE=DURATION:PT1H
X-Robots-Tag:noindex
X-PUBLISHED-TTL:PT1H
BEGIN:VTIMEZONE
TZID:Europe/London
BEGIN:DAYLIGHT
TZOFFSETFROM:+0000
TZOFFSETTO:+0100
TZNAME:BST
DTSTART:20210328T010000
END:DAYLIGHT
BEGIN:STANDARD
TZOFFSETFROM:+0100
TZOFFSETTO:+0000
TZNAME:GMT
DTSTART:20211031T010000
END:STANDARD
BEGIN:DAYLIGHT
TZOFFSETFROM:+0000
TZOFFSETTO:+0100
TZNAME:BST
DTSTART:20220327T010000
END:DAYLIGHT
BEGIN:STANDARD
TZOFFSETFROM:+0100
TZOFFSETTO:+0000
TZNAME:GMT
DTSTART:20221030T010000
END:STANDARD
BEGIN:DAYLIGHT
TZOFFSETFROM:+0000
TZOFFSETTO:+0100
TZNAME:BST
DTSTART:20230326T010000
END:DAYLIGHT
BEGIN:STANDARD
TZOFFSETFROM:+0100
TZOFFSETTO:+0000
TZNAME:GMT
DTSTART:20231029T010000
END:STANDARD
END:VTIMEZONE
BEGIN:VEVENT
DTSTART;TZID=Europe/London:20220707T160000
DTEND;TZID=Europe/London:20220707T173000
DTSTAMP:20260422T184510
CREATED:20220510T072108Z
LAST-MODIFIED:20220630T133311Z
UID:250161-1657209600-1657215000@forumstrategy.org
SUMMARY:Chairs of Trustees Seminar
DESCRIPTION:We are delighted to invite Chairs of Trustees\, to join us on July 7th 4-5.30pm for our next complimentary online Chairs of Trustees Seminar. All Chairs from Trusts of our current members (CEOs\, COOs and Education Executives) are welcome. \nIn this session we will reflect some of the key issues that trust boards and their Chairs should have on their agendas right now; including reflections on the implications of the cost of living crisis and a range of other key strategic challenges and opportunities facing the sector right now and in the months ahead. There will be an opportunity for rich discussion around new research and analysis around these issues. This is a really good opportunity for you as Chairs to find the space and get the intelligence to put your strategic hats on! We will also be joined by the National Governance Association\, who will reflect on their updated 21 questions for governing board self-evaluation and how this tool can be used by governing boards and their Chairs as they seek to further improve and develop as boards in the next academic year. And finally we’ll be joined by the Key who are launching new support for governing boards and explaining what this will entail. \nPlease note The Key are part of a commercial paid for partnership with Forum Strategy – we select our partners with strong reference to their expertise in their field and commitment to Forum Strategy’s values and ethos \nAgenda\n4pm: Welcome\n4:05pm: Key strategic priorities for Boards this Summer; Michael Pain\, founder of Forum Strategy\n4:35pm: 21 questions for governing board self-evaluation; Steve Edmonds\, Director of Advice and Guidance\, NGA\n5:15pm: The Key’s new governance offer for Trusts; Linda Unternahrer\, Lead Content Editor\, The Key & Ellie Cheshire\, Product Manager\, The Key \nTo book\, please use the form below. Please ensure upon booking\, that your Trust has a member CEO\, COO or Education Executive of Forum Strategy’s networks. \nBooking Form
URL:https://forumstrategy.org/event/chairs-of-trustees-seminar-7th-july/
LOCATION:Online
CATEGORIES:Chair of Trustees
ATTACH;FMTTYPE=image/jpeg:https://forumstrategy.org/wp-content/uploads/2021/10/eventbrite-online-event.jpg
END:VEVENT
END:VCALENDAR