BEGIN:VCALENDAR
VERSION:2.0
PRODID:-//Forum Strategy - ECPv6.15.20//NONSGML v1.0//EN
CALSCALE:GREGORIAN
METHOD:PUBLISH
X-WR-CALNAME:Forum Strategy
X-ORIGINAL-URL:https://forumstrategy.org
X-WR-CALDESC:Events for Forum Strategy
REFRESH-INTERVAL;VALUE=DURATION:PT1H
X-Robots-Tag:noindex
X-PUBLISHED-TTL:PT1H
BEGIN:VTIMEZONE
TZID:Europe/London
BEGIN:DAYLIGHT
TZOFFSETFROM:+0000
TZOFFSETTO:+0100
TZNAME:BST
DTSTART:20210328T010000
END:DAYLIGHT
BEGIN:STANDARD
TZOFFSETFROM:+0100
TZOFFSETTO:+0000
TZNAME:GMT
DTSTART:20211031T010000
END:STANDARD
BEGIN:DAYLIGHT
TZOFFSETFROM:+0000
TZOFFSETTO:+0100
TZNAME:BST
DTSTART:20220327T010000
END:DAYLIGHT
BEGIN:STANDARD
TZOFFSETFROM:+0100
TZOFFSETTO:+0000
TZNAME:GMT
DTSTART:20221030T010000
END:STANDARD
BEGIN:DAYLIGHT
TZOFFSETFROM:+0000
TZOFFSETTO:+0100
TZNAME:BST
DTSTART:20230326T010000
END:DAYLIGHT
BEGIN:STANDARD
TZOFFSETFROM:+0100
TZOFFSETTO:+0000
TZNAME:GMT
DTSTART:20231029T010000
END:STANDARD
END:VTIMEZONE
BEGIN:VEVENT
DTSTART;TZID=Europe/London:20221206T160000
DTEND;TZID=Europe/London:20221206T173000
DTSTAMP:20260422T163936
CREATED:20221111T152617Z
LAST-MODIFIED:20221113T122006Z
UID:251135-1670342400-1670347800@forumstrategy.org
SUMMARY:Termly Chairs of Trustees Seminar
DESCRIPTION:Our termly Chairs of Trustees seminars are open to all Chairs of our CEO\, COO and Education Executives members. Please do share this event with your Chair and ask them to book using the short form below. \nOur next Chairs of Trustees seminar will focus on the Board’s role in working with the CEO\, exploring important elements to a successful working relationship. We will begin by exploring the findings of the latest Forum Strategy ‘Being The CEO’ survey\, discussing the current experiences\, priorities and challenges for CEOs and the Board’s role in working with the CEO through some of these aspects\, particularly health and wellbeing. We will then be joined by Paul Crittenden\, coach\, facilitator\, and leading thinker on how to help leaders do well in high pressure environments – Paul will explore the importance of modelling health and wellbeing from the very top and how this has potential for ensuring a strong wellbeing culture pervades every part of an organisation. And as our final speaker\, we will be joined by John Brady\, CEO of Schools Advisory Service (SAS) who will share SAS’s learning and support offer around wellbeing\, drawing also on his experience as a Chair of Trustees. This will be a really important session focussing on elements within our gift to control and influence as we come towards the end of a very challenging year and potentially into further testing times ahead. \nPlease note SAS are part of a paid for partnership with Forum Strategy. When selecting our partners we do so with careful reference to their expertise and their ethos and values. \nAgenda\n4pm: Being The CEO survey results – Alice Gregson\, Executive Director\, Forum Strategy\n4.30pm: The Board & CEO role in creating and maintaining an organisational culture of health and wellbeing support – Paul Crittenden\, Director ‘Absolutely Awesome’\n5.10pm: Wellbeing support for trusts and Boards – John Brady\, CEO\, Schools Advisory Service (SAS) \nTo book onto this event please use the form below: \nBooking Form
URL:https://forumstrategy.org/event/chairs-of-trustees-seminar-6th-december-4-00pm-5-30pm-online/
LOCATION:Online
CATEGORIES:Chair of Trustees
ATTACH;FMTTYPE=image/jpeg:https://forumstrategy.org/wp-content/uploads/2021/10/eventbrite-online-event.jpg
END:VEVENT
END:VCALENDAR