BEGIN:VCALENDAR
VERSION:2.0
PRODID:-//Forum Strategy - ECPv6.15.20//NONSGML v1.0//EN
CALSCALE:GREGORIAN
METHOD:PUBLISH
X-WR-CALNAME:Forum Strategy
X-ORIGINAL-URL:https://forumstrategy.org
X-WR-CALDESC:Events for Forum Strategy
REFRESH-INTERVAL;VALUE=DURATION:PT1H
X-Robots-Tag:noindex
X-PUBLISHED-TTL:PT1H
BEGIN:VTIMEZONE
TZID:Europe/London
BEGIN:DAYLIGHT
TZOFFSETFROM:+0000
TZOFFSETTO:+0100
TZNAME:BST
DTSTART:20210328T010000
END:DAYLIGHT
BEGIN:STANDARD
TZOFFSETFROM:+0100
TZOFFSETTO:+0000
TZNAME:GMT
DTSTART:20211031T010000
END:STANDARD
BEGIN:DAYLIGHT
TZOFFSETFROM:+0000
TZOFFSETTO:+0100
TZNAME:BST
DTSTART:20220327T010000
END:DAYLIGHT
BEGIN:STANDARD
TZOFFSETFROM:+0100
TZOFFSETTO:+0000
TZNAME:GMT
DTSTART:20221030T010000
END:STANDARD
BEGIN:DAYLIGHT
TZOFFSETFROM:+0000
TZOFFSETTO:+0100
TZNAME:BST
DTSTART:20230326T010000
END:DAYLIGHT
BEGIN:STANDARD
TZOFFSETFROM:+0100
TZOFFSETTO:+0000
TZNAME:GMT
DTSTART:20231029T010000
END:STANDARD
END:VTIMEZONE
BEGIN:VEVENT
DTSTART;TZID=Europe/London:20221012T160000
DTEND;TZID=Europe/London:20221012T173000
DTSTAMP:20260422T223247
CREATED:20220923T080221Z
LAST-MODIFIED:20220923T080221Z
UID:250859-1665590400-1665595800@forumstrategy.org
SUMMARY:Chairs of Trustees Seminar 12th October 4-5.30pm
DESCRIPTION:Our latest Chairs of Trustees Seminar will take place on 12th October\, and is open to any Chair whose CEO\, COO or Education Executive is a member of Forum Strategy. This is a focused and hugely helpful session for ensuring trust Chairs are ahead of key strategic developments and consider practice taking place in other sectors\, organisations and trusts. \nThe session will focus on: \n4.00pm: The current context for the academy trust landscape; including the implications of a new government\, and latest on the cost pressures crisis. Led by Alice Gregson\, Executive Director\, Forum Strategy with discussion\n4.30pm: Being The Chair through times of crisis and uncertainty\, overcoming challenges\, seizing opportunities; led by David Studley CBE former CEO of large charities and a Chair of Trusts\n5.10pm: Communicating through times of crisis; general principles for trust boards and leaders ; led by Katie Whirledge and TBC. Please note Papillon are commercial partners to Forum Strategy\n5.30pm: Summary and close \nTo book onto the seminar\, please complete the form below. \nBooking Form
URL:https://forumstrategy.org/event/chairs-of-trustees-seminar-12th-october-4-5-30pm/
LOCATION:Online
CATEGORIES:Chair of Trustees
ATTACH;FMTTYPE=image/jpeg:https://forumstrategy.org/wp-content/uploads/2021/10/eventbrite-online-event.jpg
END:VEVENT
END:VCALENDAR